BEGIN:VCALENDAR
VERSION:2.0
PRODID:-//AfD Brandenburg - ECPv6.15.20//NONSGML v1.0//EN
CALSCALE:GREGORIAN
METHOD:PUBLISH
X-WR-CALNAME:AfD Brandenburg
X-ORIGINAL-URL:https://afd-brandenburg.de
X-WR-CALDESC:Veranstaltungen für AfD Brandenburg
REFRESH-INTERVAL;VALUE=DURATION:PT1H
X-Robots-Tag:noindex
X-PUBLISHED-TTL:PT1H
BEGIN:VTIMEZONE
TZID:Europe/Berlin
BEGIN:DAYLIGHT
TZOFFSETFROM:+0100
TZOFFSETTO:+0200
TZNAME:CEST
DTSTART:20240331T010000
END:DAYLIGHT
BEGIN:STANDARD
TZOFFSETFROM:+0200
TZOFFSETTO:+0100
TZNAME:CET
DTSTART:20241027T010000
END:STANDARD
BEGIN:DAYLIGHT
TZOFFSETFROM:+0100
TZOFFSETTO:+0200
TZNAME:CEST
DTSTART:20250330T010000
END:DAYLIGHT
BEGIN:STANDARD
TZOFFSETFROM:+0200
TZOFFSETTO:+0100
TZNAME:CET
DTSTART:20251026T010000
END:STANDARD
BEGIN:DAYLIGHT
TZOFFSETFROM:+0100
TZOFFSETTO:+0200
TZNAME:CEST
DTSTART:20260329T010000
END:DAYLIGHT
BEGIN:STANDARD
TZOFFSETFROM:+0200
TZOFFSETTO:+0100
TZNAME:CET
DTSTART:20261025T010000
END:STANDARD
END:VTIMEZONE
BEGIN:VEVENT
DTSTART;TZID=Europe/Berlin:20251106T170000
DTEND;TZID=Europe/Berlin:20251106T210000
DTSTAMP:20260422T161255
CREATED:20251106T105914Z
LAST-MODIFIED:20251106T105914Z
UID:10000212-1762448400-1762462800@afd-brandenburg.de
SUMMARY:Treff im Bürgerbüro Eisenhüttenstadt
DESCRIPTION:Dran denken! 😏 Heute Abend ist wieder Treff 🤝 im Bürgerbüro vom AfD-Bundestagsabgeordneten Rainer Galla in Eisenhüttenstadt. Kommen Sie vorbei\, um Gleichgesinnte zu treffen\, sich über die Arbeit der AfD in Stadt\, Land und Bund zu informieren. Für Speis und Trank 🤤 ist reichlich gesorgt! Nachbarn\, Mitglieder\, Nicht-Mitglieder\, Interessierte\, Wähler … sind herzlich eingeladen: \nDonnerstag\, 6. November\, 17:00 Uhr\nBürgerbüro Eisenhüttenstadt\,\nSaarlouiser Str. 35 \nSocialMedia und Kontakt: https://rainer-galla.de/kontakt \n 
URL:https://afd-brandenburg.de/veranstaltung/treff-im-buergerbuero-eisenhuettenstadt/
LOCATION:Bürgerbüro Rainer Galla Eisenhüttenstadt\, Saarlouiser Str. 35\, Eisenhüttenstadt\, Brandenburg\, Germany
CATEGORIES:Aus den Kreisverbänden,wichtig
ATTACH;FMTTYPE=image/jpeg:https://afd-brandenburg.de/wp-content/uploads/2025/11/treff-im-buergerbuero_heute_2025-11-06.jpg
END:VEVENT
BEGIN:VEVENT
DTSTART;TZID=Europe/Berlin:20251009T160000
DTEND;TZID=Europe/Berlin:20251009T200000
DTSTAMP:20260422T161255
CREATED:20250926T065817Z
LAST-MODIFIED:20251008T084736Z
UID:10000202-1760025600-1760040000@afd-brandenburg.de
SUMMARY:Bundestag trifft Landtag mit Kathi Muxel in Hütte
DESCRIPTION:Kommen Sie ins Bürgerbüro von Rainer Galla nach Eisenhüttenstadt. Der Eintritt ist natürlich frei – für Mitglieder und Nicht-Mitglieder der AfD! \n▶️ Donnerstag\, 09. Oktober 2025\n▶️ ab 16:00 Uhr\n▶️ Saarlouiser Str. 35\, Eisenhüttenstadt \n 
URL:https://afd-brandenburg.de/veranstaltung/bericht-aus-dem-bundestag-mit-rainer-galla-in-huette/
LOCATION:Bürgerbüro Rainer Galla Eisenhüttenstadt\, Saarlouiser Str. 35\, Eisenhüttenstadt\, Brandenburg\, Germany
CATEGORIES:Aus den Kreisverbänden,wichtig
ATTACH;FMTTYPE=image/jpeg:https://afd-brandenburg.de/wp-content/uploads/2025/09/bericht-aus-dem-landtag_2025-10-06.jpg
END:VEVENT
END:VCALENDAR