BEGIN:VCALENDAR
VERSION:2.0
PRODID:-//AfD Brandenburg - ECPv6.15.20//NONSGML v1.0//EN
CALSCALE:GREGORIAN
METHOD:PUBLISH
X-ORIGINAL-URL:https://afd-brandenburg.de
X-WR-CALDESC:Veranstaltungen für AfD Brandenburg
REFRESH-INTERVAL;VALUE=DURATION:PT1H
X-Robots-Tag:noindex
X-PUBLISHED-TTL:PT1H
BEGIN:VTIMEZONE
TZID:Europe/Berlin
BEGIN:DAYLIGHT
TZOFFSETFROM:+0100
TZOFFSETTO:+0200
TZNAME:CEST
DTSTART:20240331T010000
END:DAYLIGHT
BEGIN:STANDARD
TZOFFSETFROM:+0200
TZOFFSETTO:+0100
TZNAME:CET
DTSTART:20241027T010000
END:STANDARD
BEGIN:DAYLIGHT
TZOFFSETFROM:+0100
TZOFFSETTO:+0200
TZNAME:CEST
DTSTART:20250330T010000
END:DAYLIGHT
BEGIN:STANDARD
TZOFFSETFROM:+0200
TZOFFSETTO:+0100
TZNAME:CET
DTSTART:20251026T010000
END:STANDARD
BEGIN:DAYLIGHT
TZOFFSETFROM:+0100
TZOFFSETTO:+0200
TZNAME:CEST
DTSTART:20260329T010000
END:DAYLIGHT
BEGIN:STANDARD
TZOFFSETFROM:+0200
TZOFFSETTO:+0100
TZNAME:CET
DTSTART:20261025T010000
END:STANDARD
END:VTIMEZONE
BEGIN:VEVENT
DTSTART;TZID=Europe/Berlin:20251212T180000
DTEND;TZID=Europe/Berlin:20251212T210000
DTSTAMP:20260422T043548
CREATED:20251127T095423Z
LAST-MODIFIED:20251127T095632Z
UID:10000222-1765562400-1765573200@afd-brandenburg.de
SUMMARY:Skatabend im Heimathafen
DESCRIPTION:
URL:https://afd-brandenburg.de/veranstaltung/skatabend/
LOCATION:Heimathafen Neuruppin\, Fischbänkenstraße 20\, Neuruppin\, Brandenburg\, 16816\, Germany
CATEGORIES:Aus den Kreisverbänden,wichtig
ATTACH;FMTTYPE=image/png:https://afd-brandenburg.de/wp-content/uploads/2025/11/PNG-Bild.png
END:VEVENT
BEGIN:VEVENT
DTSTART;TZID=Europe/Berlin:20251118T150000
DTEND;TZID=Europe/Berlin:20251118T180000
DTSTAMP:20260422T043548
CREATED:20251106T110857Z
LAST-MODIFIED:20251106T110857Z
UID:10000213-1763478000-1763488800@afd-brandenburg.de
SUMMARY:☕ Kaffeetreff im Heimathafen 🍰
DESCRIPTION:☕ Kaffeetreff im Heimathafen 🍰\n \nAm 18. November 2025 um 15 Uhr lade ich Sie herzlich zu Kaffee\, Kuchen und Gesprächen in den Heimathafen Neuruppin ein. Ich freue mich auf den persönlichen Austausch in gemütlicher Atmosphäre – über Politik\, aktuelle Themen oder einfach über das\, was Sie bewegt.
URL:https://afd-brandenburg.de/veranstaltung/%e2%98%95-kaffeetreff-im-heimathafen-%f0%9f%8d%b0/
LOCATION:Heimathafen Neuruppin\, Fischbänkenstraße 20\, Neuruppin\, Brandenburg\, 16816\, Germany
CATEGORIES:Aus den Kreisverbänden,wichtig
ATTACH;FMTTYPE=image/jpeg:https://afd-brandenburg.de/wp-content/uploads/2025/11/Heimathafen-18.11-scaled-e1762427271326.jpg
END:VEVENT
BEGIN:VEVENT
DTSTART;TZID=Europe/Berlin:20250920T180000
DTEND;TZID=Europe/Berlin:20250920T210000
DTSTAMP:20260422T043548
CREATED:20250822T133300Z
LAST-MODIFIED:20250822T133300Z
UID:10000177-1758391200-1758402000@afd-brandenburg.de
SUMMARY:Büroeröffnung Neuruppin
DESCRIPTION:Herzliche Einladung zur Eröffnung unseres Heimathafens Neuruppin\, meinem neuen Wahlkreisbüro. \nAm 20. September ab 18:00 UhrIn der Fischbänkenstraße 20\, 16816 Neuruppin\nIch freue mich auf Euch! \nIhr/EuerGötz Frömming(Direkt gewählter Bundestagsabgeordneter im Wahlkreis 56)
URL:https://afd-brandenburg.de/veranstaltung/bueroeroeffnung-neuruppin/
LOCATION:Heimathafen Neuruppin\, Fischbänkenstraße 20\, Neuruppin\, Brandenburg\, 16816\, Germany
CATEGORIES:Aus den Kreisverbänden,wichtig
ATTACH;FMTTYPE=image/jpeg:https://afd-brandenburg.de/wp-content/uploads/2025/08/Bueroeroeffnung-Neuruppin-scaled.jpg
END:VEVENT
END:VCALENDAR