BEGIN:VCALENDAR
VERSION:2.0
PRODID:-//AfD Brandenburg - ECPv6.15.20//NONSGML v1.0//EN
CALSCALE:GREGORIAN
METHOD:PUBLISH
X-WR-CALNAME:AfD Brandenburg
X-ORIGINAL-URL:https://afd-brandenburg.de
X-WR-CALDESC:Veranstaltungen für AfD Brandenburg
REFRESH-INTERVAL;VALUE=DURATION:PT1H
X-Robots-Tag:noindex
X-PUBLISHED-TTL:PT1H
BEGIN:VTIMEZONE
TZID:Europe/Berlin
BEGIN:DAYLIGHT
TZOFFSETFROM:+0100
TZOFFSETTO:+0200
TZNAME:CEST
DTSTART:20240331T010000
END:DAYLIGHT
BEGIN:STANDARD
TZOFFSETFROM:+0200
TZOFFSETTO:+0100
TZNAME:CET
DTSTART:20241027T010000
END:STANDARD
BEGIN:DAYLIGHT
TZOFFSETFROM:+0100
TZOFFSETTO:+0200
TZNAME:CEST
DTSTART:20250330T010000
END:DAYLIGHT
BEGIN:STANDARD
TZOFFSETFROM:+0200
TZOFFSETTO:+0100
TZNAME:CET
DTSTART:20251026T010000
END:STANDARD
BEGIN:DAYLIGHT
TZOFFSETFROM:+0100
TZOFFSETTO:+0200
TZNAME:CEST
DTSTART:20260329T010000
END:DAYLIGHT
BEGIN:STANDARD
TZOFFSETFROM:+0200
TZOFFSETTO:+0100
TZNAME:CET
DTSTART:20261025T010000
END:STANDARD
END:VTIMEZONE
BEGIN:VEVENT
DTSTART;TZID=Europe/Berlin:20251004T180000
DTEND;TZID=Europe/Berlin:20251004T213000
DTSTAMP:20260422T130454
CREATED:20250822T133534Z
LAST-MODIFIED:20250904T071534Z
UID:10000178-1759600800-1759613400@afd-brandenburg.de
SUMMARY:Büroeröffnung Wittenberge
DESCRIPTION:Herzliche Einladung zur Eröffnung unseres Heimathafens Wittenberge\, meinem neuen Wahlkreisbüro. \nAm 04. Oktober ab 18:00 UhrIn der Rathausstraße 9\, 19322 Wittenberge\nIch freue mich auf Euch! \nIhr/EuerGötz Frömming(Direkt gewählter Bundestagsabgeordneter im Wahlkreis 56)
URL:https://afd-brandenburg.de/veranstaltung/bueroeroeffnung-wittenberge/
LOCATION:Heimathafen Wittenberge\, Rathausstr. 9\, Wittenberge\, Brandenburg\, 19322\, Germany
CATEGORIES:Aus den Kreisverbänden,wichtig
ATTACH;FMTTYPE=image/jpeg:https://afd-brandenburg.de/wp-content/uploads/2025/08/Bueroeroeffnung2-scaled-e1756969483770.jpg
END:VEVENT
END:VCALENDAR