BEGIN:VCALENDAR
VERSION:2.0
PRODID:-//AfD Brandenburg - ECPv6.15.20//NONSGML v1.0//EN
CALSCALE:GREGORIAN
METHOD:PUBLISH
X-WR-CALNAME:AfD Brandenburg
X-ORIGINAL-URL:https://afd-brandenburg.de
X-WR-CALDESC:Veranstaltungen für AfD Brandenburg
REFRESH-INTERVAL;VALUE=DURATION:PT1H
X-Robots-Tag:noindex
X-PUBLISHED-TTL:PT1H
BEGIN:VTIMEZONE
TZID:Europe/Berlin
BEGIN:DAYLIGHT
TZOFFSETFROM:+0100
TZOFFSETTO:+0200
TZNAME:CEST
DTSTART:20240331T010000
END:DAYLIGHT
BEGIN:STANDARD
TZOFFSETFROM:+0200
TZOFFSETTO:+0100
TZNAME:CET
DTSTART:20241027T010000
END:STANDARD
BEGIN:DAYLIGHT
TZOFFSETFROM:+0100
TZOFFSETTO:+0200
TZNAME:CEST
DTSTART:20250330T010000
END:DAYLIGHT
BEGIN:STANDARD
TZOFFSETFROM:+0200
TZOFFSETTO:+0100
TZNAME:CET
DTSTART:20251026T010000
END:STANDARD
BEGIN:DAYLIGHT
TZOFFSETFROM:+0100
TZOFFSETTO:+0200
TZNAME:CEST
DTSTART:20260329T010000
END:DAYLIGHT
BEGIN:STANDARD
TZOFFSETFROM:+0200
TZOFFSETTO:+0100
TZNAME:CET
DTSTART:20261025T010000
END:STANDARD
END:VTIMEZONE
BEGIN:VEVENT
DTSTART;TZID=Europe/Berlin:20250917T170000
DTEND;TZID=Europe/Berlin:20250917T200000
DTSTAMP:20260421T210114
CREATED:20250915T171257Z
LAST-MODIFIED:20250915T171257Z
UID:10000197-1758128400-1758139200@afd-brandenburg.de
SUMMARY:Wahlkampffinale BM-Wahlkampf Velten
DESCRIPTION:
URL:https://afd-brandenburg.de/veranstaltung/wahlkampffinale-bm-wahlkampf-velten/
LOCATION:Marktplatz Velten\, Marktplatz\, Velten\, Brandenburg\, 16727\, Germany
CATEGORIES:Aus den Kreisverbänden,wichtig
ATTACH;FMTTYPE=image/jpeg:https://afd-brandenburg.de/wp-content/uploads/2025/09/WhatsApp-Image-2025-09-15-at-18.00.25-e1757956251504.jpeg
END:VEVENT
END:VCALENDAR