BEGIN:VCALENDAR
VERSION:2.0
PRODID:-//AfD Brandenburg - ECPv6.15.20//NONSGML v1.0//EN
CALSCALE:GREGORIAN
METHOD:PUBLISH
X-ORIGINAL-URL:https://afd-brandenburg.de
X-WR-CALDESC:Veranstaltungen für AfD Brandenburg
REFRESH-INTERVAL;VALUE=DURATION:PT1H
X-Robots-Tag:noindex
X-PUBLISHED-TTL:PT1H
BEGIN:VTIMEZONE
TZID:Europe/Berlin
BEGIN:DAYLIGHT
TZOFFSETFROM:+0100
TZOFFSETTO:+0200
TZNAME:CEST
DTSTART:20240331T010000
END:DAYLIGHT
BEGIN:STANDARD
TZOFFSETFROM:+0200
TZOFFSETTO:+0100
TZNAME:CET
DTSTART:20241027T010000
END:STANDARD
BEGIN:DAYLIGHT
TZOFFSETFROM:+0100
TZOFFSETTO:+0200
TZNAME:CEST
DTSTART:20250330T010000
END:DAYLIGHT
BEGIN:STANDARD
TZOFFSETFROM:+0200
TZOFFSETTO:+0100
TZNAME:CET
DTSTART:20251026T010000
END:STANDARD
BEGIN:DAYLIGHT
TZOFFSETFROM:+0100
TZOFFSETTO:+0200
TZNAME:CEST
DTSTART:20260329T010000
END:DAYLIGHT
BEGIN:STANDARD
TZOFFSETFROM:+0200
TZOFFSETTO:+0100
TZNAME:CET
DTSTART:20261025T010000
END:STANDARD
END:VTIMEZONE
BEGIN:VEVENT
DTSTART;TZID=Europe/Berlin:20250919T183000
DTEND;TZID=Europe/Berlin:20250919T203000
DTSTAMP:20260421T161959
CREATED:20250915T170946Z
LAST-MODIFIED:20250915T170946Z
UID:10000196-1758306600-1758313800@afd-brandenburg.de
SUMMARY:Abschlußkundgebung im Bürgermeister-Wahlkampf Oranienburg
DESCRIPTION:
URL:https://afd-brandenburg.de/veranstaltung/abschlusskundgebung-im-buergermeister-wahlkampf-oranienburg/
LOCATION:Schlossplatz Oranienburg\, Schlossplatz\, Oranienburg\, Brandenburg\, Germany
CATEGORIES:Aus den Kreisverbänden,wichtig
ATTACH;FMTTYPE=image/jpeg:https://afd-brandenburg.de/wp-content/uploads/2025/09/WhatsApp-Image-2025-09-15-at-17.42.29-e1757956076591.jpeg
END:VEVENT
BEGIN:VEVENT
DTSTART;TZID=Europe/Berlin:20250214T183000
DTEND;TZID=Europe/Berlin:20250214T203000
DTSTAMP:20260421T161959
CREATED:20250207T193102Z
LAST-MODIFIED:20250207T193102Z
UID:10000048-1739557800-1739565000@afd-brandenburg.de
SUMMARY:Große Wahlkampfveranstaltung in Oranienburg
DESCRIPTION:
URL:https://afd-brandenburg.de/veranstaltung/grosse-wahlkampfveranstaltung-in-oranienburg/
LOCATION:Schlossplatz Oranienburg\, Schlossplatz\, Oranienburg\, Brandenburg\, Germany
CATEGORIES:Aus den Kreisverbänden
ATTACH;FMTTYPE=image/jpeg:https://afd-brandenburg.de/wp-content/uploads/2025/02/WhatsApp-Image-2025-02-07-at-16.44.41-e1738956581296.jpeg
END:VEVENT
END:VCALENDAR