BEGIN:VCALENDAR
VERSION:2.0
PRODID:-//AfD Brandenburg - ECPv6.15.20//NONSGML v1.0//EN
CALSCALE:GREGORIAN
METHOD:PUBLISH
X-ORIGINAL-URL:https://afd-brandenburg.de
X-WR-CALDESC:Veranstaltungen für AfD Brandenburg
REFRESH-INTERVAL;VALUE=DURATION:PT1H
X-Robots-Tag:noindex
X-PUBLISHED-TTL:PT1H
BEGIN:VTIMEZONE
TZID:Europe/Berlin
BEGIN:DAYLIGHT
TZOFFSETFROM:+0100
TZOFFSETTO:+0200
TZNAME:CEST
DTSTART:20240331T010000
END:DAYLIGHT
BEGIN:STANDARD
TZOFFSETFROM:+0200
TZOFFSETTO:+0100
TZNAME:CET
DTSTART:20241027T010000
END:STANDARD
BEGIN:DAYLIGHT
TZOFFSETFROM:+0100
TZOFFSETTO:+0200
TZNAME:CEST
DTSTART:20250330T010000
END:DAYLIGHT
BEGIN:STANDARD
TZOFFSETFROM:+0200
TZOFFSETTO:+0100
TZNAME:CET
DTSTART:20251026T010000
END:STANDARD
BEGIN:DAYLIGHT
TZOFFSETFROM:+0100
TZOFFSETTO:+0200
TZNAME:CEST
DTSTART:20260329T010000
END:DAYLIGHT
BEGIN:STANDARD
TZOFFSETFROM:+0200
TZOFFSETTO:+0100
TZNAME:CET
DTSTART:20261025T010000
END:STANDARD
END:VTIMEZONE
BEGIN:VEVENT
DTSTART;TZID=Europe/Berlin:20250208T100000
DTEND;TZID=Europe/Berlin:20250208T120000
DTSTAMP:20260421T101840
CREATED:20250203T164545Z
LAST-MODIFIED:20250203T164545Z
UID:10000033-1739008800-1739016000@afd-brandenburg.de
SUMMARY:Infostand mit LOS/FF(O)-Direktkandidat Rainer Galla
DESCRIPTION:
URL:https://afd-brandenburg.de/veranstaltung/infostand-mit-los-ffo-direktkandidat-rainer-galla-6/
LOCATION:Spreenhagen am Netto\, Hauptstr.\, Spreenhagen\, Brandenburg\, Germany
CATEGORIES:Aus den Kreisverbänden
ATTACH;FMTTYPE=image/png:https://afd-brandenburg.de/wp-content/uploads/2025/02/spreenhagen_02-08-e1738600551802.png
END:VEVENT
END:VCALENDAR